BEGIN:VCALENDAR
VERSION:2.0
PRODID:-//Verein für Heimatpflege Illertissen und Umgebung e. V. - ECPv6.15.20//NONSGML v1.0//EN
CALSCALE:GREGORIAN
METHOD:PUBLISH
X-WR-CALNAME:Verein für Heimatpflege Illertissen und Umgebung e. V.
X-ORIGINAL-URL:https://heimatpflege-illertissen.de
X-WR-CALDESC:Veranstaltungen für Verein für Heimatpflege Illertissen und Umgebung e. V.
REFRESH-INTERVAL;VALUE=DURATION:PT1H
X-Robots-Tag:noindex
X-PUBLISHED-TTL:PT1H
BEGIN:VTIMEZONE
TZID:Europe/Berlin
BEGIN:DAYLIGHT
TZOFFSETFROM:+0100
TZOFFSETTO:+0200
TZNAME:CEST
DTSTART:20250330T010000
END:DAYLIGHT
BEGIN:STANDARD
TZOFFSETFROM:+0200
TZOFFSETTO:+0100
TZNAME:CET
DTSTART:20251026T010000
END:STANDARD
BEGIN:DAYLIGHT
TZOFFSETFROM:+0100
TZOFFSETTO:+0200
TZNAME:CEST
DTSTART:20260329T010000
END:DAYLIGHT
BEGIN:STANDARD
TZOFFSETFROM:+0200
TZOFFSETTO:+0100
TZNAME:CET
DTSTART:20261025T010000
END:STANDARD
BEGIN:DAYLIGHT
TZOFFSETFROM:+0100
TZOFFSETTO:+0200
TZNAME:CEST
DTSTART:20270328T010000
END:DAYLIGHT
BEGIN:STANDARD
TZOFFSETFROM:+0200
TZOFFSETTO:+0100
TZNAME:CET
DTSTART:20271031T010000
END:STANDARD
BEGIN:DAYLIGHT
TZOFFSETFROM:+0100
TZOFFSETTO:+0200
TZNAME:CEST
DTSTART:20280326T010000
END:DAYLIGHT
BEGIN:STANDARD
TZOFFSETFROM:+0200
TZOFFSETTO:+0100
TZNAME:CET
DTSTART:20281029T010000
END:STANDARD
END:VTIMEZONE
BEGIN:VEVENT
DTSTART;TZID=Europe/Berlin:20260509T143000
DTEND;TZID=Europe/Berlin:20260509T143000
DTSTAMP:20260425T160903
CREATED:20260310T193259Z
LAST-MODIFIED:20260413T110056Z
UID:2850-1778337000-1778337000@heimatpflege-illertissen.de
SUMMARY:Ritter im Schlosshof
DESCRIPTION:mit den Armati Equites \nEintritt für Kinder frei
URL:https://heimatpflege-illertissen.de/event/ritter-im-schlosshof
END:VEVENT
BEGIN:VEVENT
DTSTART;VALUE=DATE:20260517
DTEND;VALUE=DATE:20260518
DTSTAMP:20260425T160903
CREATED:20260310T193431Z
LAST-MODIFIED:20260413T110151Z
UID:2852-1778976000-1779062399@heimatpflege-illertissen.de
SUMMARY:Internationaler Museumstag
DESCRIPTION:Museumsführungen (für Erwachsene und Kinder)\nNähere Informationen in der Presse
URL:https://heimatpflege-illertissen.de/event/internationaler-museumstag
LOCATION:Vöhlin-Schloss Illertissen
END:VEVENT
BEGIN:VEVENT
DTSTART;TZID=Europe/Berlin:20260725T073000
DTEND;TZID=Europe/Berlin:20260725T193000
DTSTAMP:20260425T160903
CREATED:20260310T193719Z
LAST-MODIFIED:20260310T193719Z
UID:2855-1784964600-1785007800@heimatpflege-illertissen.de
SUMMARY:Tagesausflug nach Würzburg
DESCRIPTION:Besichtigung der Residenz\nAltstadtführung\n\nRückkehr ca. 19:30 Uhr
URL:https://heimatpflege-illertissen.de/event/tagesausflug-nach-wuerzburg
LOCATION:Busbahnhof Illertissen
END:VEVENT
BEGIN:VEVENT
DTSTART;VALUE=DATE:20260913
DTEND;VALUE=DATE:20260914
DTSTAMP:20260425T160903
CREATED:20260310T193947Z
LAST-MODIFIED:20260310T193947Z
UID:2858-1789257600-1789343999@heimatpflege-illertissen.de
SUMMARY:Tag des offenen Denkmals
DESCRIPTION:Führungen Schlosskapelle/Barocksaal\nNähere Informationen in der Presse
URL:https://heimatpflege-illertissen.de/event/tag-des-offenen-denkmals
LOCATION:Vöhlin-Schloss Illertissen
END:VEVENT
BEGIN:VEVENT
DTSTART;VALUE=DATE:20260925
DTEND;VALUE=DATE:20260926
DTSTAMP:20260425T160903
CREATED:20260310T194136Z
LAST-MODIFIED:20260310T194136Z
UID:2860-1790294400-1790380799@heimatpflege-illertissen.de
SUMMARY:Halbtagesausflug nach Frickenhausen
DESCRIPTION:Ortsrundgang mit Schlossbesichtigung \nUhrzeit und Abfahrtsort wird noch bekannt gegeben
URL:https://heimatpflege-illertissen.de/event/halbtagesausflug-nach-frickenhausen
END:VEVENT
BEGIN:VEVENT
DTSTART;TZID=Europe/Berlin:20261010T190000
DTEND;TZID=Europe/Berlin:20261010T190000
DTSTAMP:20260425T160903
CREATED:20260310T194416Z
LAST-MODIFIED:20260310T194416Z
UID:2862-1791658800-1791658800@heimatpflege-illertissen.de
SUMMARY:Veranstaltung von der Matzenhofer Schwabengilde
DESCRIPTION:Mundart und Musik
URL:https://heimatpflege-illertissen.de/event/veranstaltung-von-der-matzenhofer-schwabengilde
LOCATION:Vöhlin-Schloss Illertissen Französischer Anbau Barocksaal
END:VEVENT
BEGIN:VEVENT
DTSTART;VALUE=DATE:20261030
DTEND;VALUE=DATE:20261031
DTSTAMP:20260425T160903
CREATED:20260310T194603Z
LAST-MODIFIED:20260310T194603Z
UID:2865-1793318400-1793404799@heimatpflege-illertissen.de
SUMMARY:Kinderführungen zu Halloween im Vöhlinschloss
DESCRIPTION:Anmeldung nötig\nEintritt für Kinder frei\, Erwachsene 3€\nNähere Informationen in der Presse
URL:https://heimatpflege-illertissen.de/event/kinderfuehrungen-zu-halloween-im-voehlinschloss
LOCATION:Vöhlin-Schloss Illertissen
END:VEVENT
BEGIN:VEVENT
DTSTART;TZID=Europe/Berlin:20261204T130000
DTEND;TZID=Europe/Berlin:20270131T170000
DTSTAMP:20260425T160903
CREATED:20260310T194833Z
LAST-MODIFIED:20260310T194833Z
UID:2867-1796389200-1801414800@heimatpflege-illertissen.de
SUMMARY:Krippenausstellung
DESCRIPTION:Sa/So und feiertags jeweils 13:00 bis 17:00
URL:https://heimatpflege-illertissen.de/event/krippenausstellung
LOCATION:Vöhlin-Schloss Illertissen
END:VEVENT
END:VCALENDAR